BEGIN:VCALENDAR
VERSION:2.0
PRODID:-//wp-events-plugin.com//7.2.3.1//EN
BEGIN:VEVENT
UID:4191@japanesegarden.org
DTSTART:20230805T020000Z
DTEND:20230805T040000Z
DTSTAMP:20250324T225932Z
URL:https://japanesegarden.org/events/twilight-hours-for-patron-and-steward-members-10/
SUMMARY:Twilight Hours for Patron and Steward Members
DESCRIPTION:\nExclusive to our Patron and Steward Members\, Twilight Hours is a series of three evenings throughout the peak summer months when the days are longest. \n\n\n\nThese special evenings allow Patron and Steward Members to experience the Garden at its most serene\, illuminated by the golden light of dusk\, and accompanied by delightful music. Refreshments and light appetizers will also be provided.\n\n\n\nLast admission is 8:30pm.\n
ATTACH;FMTTYPE=image/jpeg:https://wpmedia.japanesegarden.org/w:2560/h:1707/q:mauto/process:26259/id:6be81b394bf1c45246dce74badd74801/https://japanesegarden.org/Twilight-Hours-2019-07-19-Jonathan-Ley-image-046-1-1.jpg
CATEGORIES:Member Only,Special Events
END:VEVENT
END:VCALENDAR