BEGIN:VCALENDAR
VERSION:2.0
PRODID:-//wp-events-plugin.com//7.2.3.1//EN
BEGIN:VEVENT
UID:1758@japanesegarden.org
DTSTART:20191116T170000Z
DTEND:20191116T230000Z
DTSTAMP:20250324T232738Z
URL:https://japanesegarden.org/events/pine-pruning-workshop-2/
SUMMARY:Pine Pruning Workshop
DESCRIPTION:Learn all about how to care for your pine trees. Conducted by staff gardeners\, this demonstration will explore specific pine pruning and needling techniques\, shaping\, and growth regulation.
ATTACH;FMTTYPE=image/jpeg:https://wpmedia.japanesegarden.org/w:1600/h:1066/q:mauto/process:8255/id:7d71509c0009b7f9368c1f808727196a/https://japanesegarden.org/Pine-Pruning-Workshop-110417-Image-010.jpg
LOCATION:Portland Japanese Garden\, 611 SW Kingston Ave.\, Portland\, OR\, 97205\, United States
GEO:45.51862;-122.70843109999998
X-APPLE-STRUCTURED-LOCATION;VALUE=URI;X-ADDRESS=611 SW Kingston Ave.\, Portland\, OR\, 97205\, United States;X-APPLE-RADIUS=100;X-TITLE=Portland Japanese Garden:geo:45.51862;-122.70843109999998
END:VEVENT
END:VCALENDAR