BEGIN:VCALENDAR
VERSION:2.0
PRODID:-//wp-events-plugin.com//7.2.3.1//EN
BEGIN:VEVENT
UID:528@japanesegarden.org
DTSTART;VALUE=DATE:20170429
DTEND;VALUE=DATE:20170501
DTSTAMP:20250324T233042Z
URL:https://japanesegarden.org/events/ohara-ikebana-exhibition/
SUMMARY:Ohara Ikebana Exhibition
DESCRIPTION:[caption id="attachment_3786" align="alignleft" width="376"] Ohara Ikebana / Photo by Jonathan Ley[/caption]\n\nWhat distinguishes ikebana from other approaches to flower arrangement is its asymmetrical form and the use of “empty” space as essential features of the composition. A sense of harmony among the materials\, the container\, and the setting is also crucial. Ikebana shares these aesthetic characteristics with traditional Japanese paintings\, gardens\, architecture\, and design. Members of the Seattle Chapter of the Ohara School of Ikebana set the tone for spring with an array of exquisite designs on display in the Yanai Classroom.
ATTACH;FMTTYPE=image/jpeg:https://wpmedia.japanesegarden.org/w:1600/h:1075/q:mauto/process:3786/id:01489d2e1909a1985effe57537e4434c/https://japanesegarden.org/Ohara-Ikebana-2008-02-02-RS725_ikebana1-02.jpg
LOCATION:Yanai Classroom\, 611 SW Kingston Ave.\, Portland\, Oregon\, 97205\, United States
GEO:45.51862;-122.70843109999998
X-APPLE-STRUCTURED-LOCATION;VALUE=URI;X-ADDRESS=611 SW Kingston Ave.\, Portland\, Oregon\, 97205\, United States;X-APPLE-RADIUS=100;X-TITLE=Yanai Classroom:geo:45.51862;-122.70843109999998
END:VEVENT
END:VCALENDAR