BEGIN:VCALENDAR
VERSION:2.0
PRODID:-//wp-events-plugin.com//7.2.3.1//EN
BEGIN:VEVENT
UID:1591@japanesegarden.org
DTSTART:20180623T020000Z
DTEND:20180623T040000Z
DTSTAMP:20250324T233028Z
URL:https://japanesegarden.org/events/member-extended-hours-3/
SUMMARY:Member-Only Extended Hours
DESCRIPTION:Members and your guests are invited to extended member hours beginning at 7pm. Enjoy the golden light of sunset throughout the Garden as well as a gorgeous evening view of Mt. Hood.\n\nPlease note: last admission is at 8:30pm
ATTACH;FMTTYPE=image/jpeg:https://wpmedia.japanesegarden.org/w:1600/h:1068/q:mauto/process:1117/id:546d8013bc7f6a28e1c466b061893a52/https://japanesegarden.org/People-in-the-Gdn_Roman-Johnston_RJ1_3015-original.webp
LOCATION:Portland Japanese Garden\, 611 SW Kingston Ave.\, Portland\, OR\, 97205\, United States
GEO:45.51862;-122.70843109999998
X-APPLE-STRUCTURED-LOCATION;VALUE=URI;X-ADDRESS=611 SW Kingston Ave.\, Portland\, OR\, 97205\, United States;X-APPLE-RADIUS=100;X-TITLE=Portland Japanese Garden:geo:45.51862;-122.70843109999998
END:VEVENT
END:VCALENDAR