BEGIN:VCALENDAR
VERSION:2.0
PRODID:-//wp-events-plugin.com//7.2.3.1//EN
BEGIN:VEVENT
UID:4411@japanesegarden.org
DTSTART:20240414T201500Z
DTEND:20240414T211500Z
DTSTAMP:20250324T225516Z
URL:https://japanesegarden.org/events/koto-harp-and-piano-performance-april142024/
SUMMARY:Cultural Performance: Koto and Piano
DESCRIPTION:Koto harp performance by Oregon Koto-Kai at 1:15pm in the Jordan Schnitzer Japanese Arts Learning Center
ATTACH;FMTTYPE=image/jpeg:https://wpmedia.japanesegarden.org/w:640/h:420/q:mauto/process:33241/id:4f3ad7a3e0542ea785f3057e6e23a084/https://japanesegarden.org/Masumi-Timson_-Crystal-Zimmerman-1.jpg
CATEGORIES:Demonstrations &amp; Performances
LOCATION:Jordan Schnitzer Japanese Arts Learning Center\, 611 SW Kingston Ave.\, Portland\, Oregon\, 97212\, United States
GEO:45.51862;-122.708431
X-APPLE-STRUCTURED-LOCATION;VALUE=URI;X-ADDRESS=611 SW Kingston Ave.\, Portland\, Oregon\, 97212\, United States;X-APPLE-RADIUS=100;X-TITLE=Jordan Schnitzer Japanese Arts Learning Center:geo:45.51862;-122.708431
END:VEVENT
END:VCALENDAR