BEGIN:VCALENDAR
VERSION:2.0
PRODID:-//wp-events-plugin.com//7.2.3.1//EN
BEGIN:VEVENT
UID:955@japanesegarden.org
DTSTART:20180315T230000Z
DTEND:20180316T003000Z
DTSTAMP:20250324T233033Z
URL:https://japanesegarden.org/events/jake-hobson-niwaki-interpreting-garden-trees-outside-japan/
SUMMARY:Jake Hobson - Niwaki: Interpreting Garden Trees Outside of Japan
DESCRIPTION:Author\, sculptor and pruning expert Jake Hobson will explore interpretations of the use of trees in Japanese gardens and how to reinterpret their use outside of Japan --- both in the context of Japanese-style gardens in the west\, and gardens of other styles. 
ATTACH;FMTTYPE=image/jpeg:https://wpmedia.japanesegarden.org/w:1000/h:666/q:mauto/process:7463/id:f240ecbeaacd805954e420247715ca18/https://japanesegarden.org/jake-hobson.jpg
LOCATION:Yanai Classroom\, 611 SW Kingston Ave.\, Portland\, Oregon\, 97205\, United States
GEO:45.51862;-122.70843109999998
X-APPLE-STRUCTURED-LOCATION;VALUE=URI;X-ADDRESS=611 SW Kingston Ave.\, Portland\, Oregon\, 97205\, United States;X-APPLE-RADIUS=100;X-TITLE=Yanai Classroom:geo:45.51862;-122.70843109999998
END:VEVENT
END:VCALENDAR