BEGIN:VCALENDAR
VERSION:2.0
PRODID:-//wp-events-plugin.com//7.2.3.1//EN
BEGIN:VEVENT
UID:1707@japanesegarden.org
DTSTART:20190303T190000Z
DTEND:20190303T220000Z
DTSTAMP:20250324T232756Z
URL:https://japanesegarden.org/events/hina-matsuri-the-doll-festival/
SUMMARY:Hina Matsuri\, The Doll Festival
DESCRIPTION:Bring the whole family to this year’s celebration of Hina Matsuri\, the Doll Festival. Dress your little ones up in traditional cotton yukatas\, create beautiful floral arrangements in the kids’ ikebana workshop\, and view an exquisite seven-tiered display of festival dolls
ATTACH;FMTTYPE=image/jpeg:https://wpmedia.japanesegarden.org/w:1600/h:1066/q:mauto/process:10608/id:c0896ccafe082179352a17f8d7ed06d2/https://japanesegarden.org/Hina-Matsuri-030318-image-036.jpg
END:VEVENT
END:VCALENDAR