BEGIN:VCALENDAR
VERSION:2.0
PRODID:-//wp-events-plugin.com//7.2.3.1//EN
BEGIN:VEVENT
UID:4199@japanesegarden.org
DTSTART:20230610T201500Z
DTEND:20230610T211500Z
DTSTAMP:20250324T225958Z
URL:https://japanesegarden.org/events/cultural-performance-takohachi-x-4/
SUMMARY:Cultural Performance: Takohachi X
DESCRIPTION:A powerful musical performances featuring Tsugaru Shamisen\, Shinobue (bamboo flute)\, Taiko\, Katari (storytelling)\, and dances from Japanese history\, as well as new and original compositions by Takohachi X.
ATTACH;FMTTYPE=image/jpeg:https://wpmedia.japanesegarden.org/w:1351/h:902/q:mauto/process:16397/id:3c3495ca71df56fa5f790c8bc9aac0fb/https://japanesegarden.org/takohachi-X-photo-1.jpg
CATEGORIES:Demonstrations &amp; Performances
LOCATION:Jordan Schnitzer Japanese Arts Learning Center\, 611 SW Kingston Ave.\, Portland\, Oregon\, 97212\, United States
GEO:45.51862;-122.708431
X-APPLE-STRUCTURED-LOCATION;VALUE=URI;X-ADDRESS=611 SW Kingston Ave.\, Portland\, Oregon\, 97212\, United States;X-APPLE-RADIUS=100;X-TITLE=Jordan Schnitzer Japanese Arts Learning Center:geo:45.51862;-122.708431
END:VEVENT
END:VCALENDAR