BEGIN:VCALENDAR
VERSION:2.0
PRODID:-//wp-events-plugin.com//7.2.3.1//EN
BEGIN:VEVENT
UID:1782@japanesegarden.org
DTSTART:20190112T210000Z
DTEND:20190112T220000Z
DTSTAMP:20250324T232759Z
URL:https://japanesegarden.org/events/cultural-performance-shakuhachi-flute-3/
SUMMARY:Cultural Performance: Shakuhachi Flute
DESCRIPTION:Join us today from 1-2pm for a special shakuhachi bamboo flute recital at the Cathy Rudd Cultural Corner by our long time musical partner\, Larry Tyrrell.
ATTACH;FMTTYPE=image/jpeg:https://wpmedia.japanesegarden.org/w:1785/h:2315/q:mauto/process:11225/id:474b2a9bea02b5f175530c8908282a1b/https://japanesegarden.org/LarryTyrrell-1.jpg
LOCATION:Jordan Schnitzer Japanese Arts Learning Center\, 611 SW Kingston Ave.\, Portland\, Oregon\, 97212\, United States
GEO:45.51862;-122.708431
X-APPLE-STRUCTURED-LOCATION;VALUE=URI;X-ADDRESS=611 SW Kingston Ave.\, Portland\, Oregon\, 97212\, United States;X-APPLE-RADIUS=100;X-TITLE=Jordan Schnitzer Japanese Arts Learning Center:geo:45.51862;-122.708431
END:VEVENT
END:VCALENDAR