BEGIN:VCALENDAR
VERSION:2.0
PRODID:-//wp-events-plugin.com//7.2.3.1//EN
BEGIN:VEVENT
UID:3937@japanesegarden.org
DTSTART:20220606T201500Z
DTEND:20220606T211500Z
DTSTAMP:20250324T231525Z
URL:https://japanesegarden.org/events/cultural-demonstration-ikebana-44/
SUMMARY:Cultural Demonstration: Ikebana
DESCRIPTION:\n\nIkebana\, the Japanese art of flower arranging\, has been translated as “living flowers” or “giving life to flowers.” Join us from 1:15-2:15pm for an Ikebana presentation by Nana Bellerud in honor of Ikebana Day. The demonstration will take place at the Cathy Rudd Cultural Corner\, located in the Jordan Schnitzer Japanese Arts Learning Center.\n\nJune 6th was designated as Ikebana Day in 2020. Since ancient times in Japan\, it has been said that the best day to start practicing traditional arts is on the 6th day of the 6th month at the age of 6\, in hopes of the progress of the art.\n
ATTACH;FMTTYPE=image/jpeg:https://wpmedia.japanesegarden.org/w:2560/h:1707/q:mauto/process:15338/id:f40ef7c3d4ad0043a067f7f49533ead0/https://japanesegarden.org/Ikebana-Nana-Bellerud-1.jpg
LOCATION:Jordan Schnitzer Japanese Arts Learning Center\, 611 SW Kingston Ave.\, Portland\, Oregon\, 97212\, United States
GEO:45.51862;-122.708431
X-APPLE-STRUCTURED-LOCATION;VALUE=URI;X-ADDRESS=611 SW Kingston Ave.\, Portland\, Oregon\, 97212\, United States;X-APPLE-RADIUS=100;X-TITLE=Jordan Schnitzer Japanese Arts Learning Center:geo:45.51862;-122.708431
END:VEVENT
END:VCALENDAR