BEGIN:VCALENDAR
VERSION:2.0
PRODID:-//wp-events-plugin.com//7.2.3.1//EN
BEGIN:VEVENT
UID:4325@japanesegarden.org
DTSTART:20240119T211500Z
DTEND:20240119T221500Z
DTSTAMP:20250324T225521Z
URL:https://japanesegarden.org/events/cultural-demonstration-bonsai-presentation-by-andrew-robson/
SUMMARY:Cultural Demonstration: Bonsai Presentation by Andrew Robson (CANCELED)
DESCRIPTION:[caption id="attachment_9720" align="alignleft" width="282"] Photo by Erica Heartquist[/caption]\n\n&nbsp\;Join us for a bonsai presentation by Andrew Robson at the Cathy Rudd Cultural Corner in the Jordan Schnitzer Japanese Arts Learning Center from 1:15 - 2:15pm. Bonsai\, literal translation tree-in-a-tray\, is the art and science of miniature trees.\n\nAndrew Robson is a deciduous artist in the American bonsai community. &nbsp\;He completed a 3-year apprenticeship with Michael Hagedorn\, after graduating from&nbsp\;Yale University. Andrew is the President of the&nbsp\;Bonsai Society of Portland\, the largest bonsai club in the United States.\n\nAdditionally\, he serves as a member of the&nbsp\;Portland Bonsai Village\, and has previously served as a board member of the American Bonsai Society. He regularly lectures and exhibits work at the Portland Japanese Garde. Andrew is a host of the&nbsp\;Bonsai Wire Podcast&nbsp\;and regularly creates new episodes with the other hosts and prominent figures in the bonsai community. Andrew resides at his recently constructed garden RAKUYO-en with his golden retriever Bailey\, where he teaches and shares the art of deciduous bonsai.
ATTACH;FMTTYPE=image/jpeg:https://wpmedia.japanesegarden.org/w:1152/h:864/q:mauto/process:10873/id:20c7d7e46af8eea2aee78e0c263ffce2/https://japanesegarden.org/Bonsai-042818-image-022-1-e1538932395970.jpg
CATEGORIES:Demonstrations &amp; Performances
LOCATION:Jordan Schnitzer Japanese Arts Learning Center\, 611 SW Kingston Ave.\, Portland\, Oregon\, 97212\, United States
GEO:45.51862;-122.708431
X-APPLE-STRUCTURED-LOCATION;VALUE=URI;X-ADDRESS=611 SW Kingston Ave.\, Portland\, Oregon\, 97212\, United States;X-APPLE-RADIUS=100;X-TITLE=Jordan Schnitzer Japanese Arts Learning Center:geo:45.51862;-122.708431
END:VEVENT
END:VCALENDAR