BEGIN:VCALENDAR
VERSION:2.0
PRODID:-//wp-events-plugin.com//7.2.3.1//EN
BEGIN:VEVENT
UID:516@japanesegarden.org
DTSTART:20170527T210000Z
DTEND:20170527T223000Z
DTSTAMP:20250324T233042Z
URL:https://japanesegarden.org/events/calligraphy-demonstration-by-yoshiyasu-fujii/
SUMMARY:Calligraphy Demonstration by Yoshiyasu Fujii
DESCRIPTION:As part of the Art in the Garden exhibition\, Ink\, Paper\, and Soul: The Calligraphy of Yoshiyasu Fujii\, a Calligraphy Demonstration by Master Calligrapher Yoshiyasu Fujii will be held Saturday\, May 27 from 2-3:30pm in the Yanai Classroom in the Cultural Village.
ATTACH;FMTTYPE=image/jpeg:https://wpmedia.japanesegarden.org/w:1600/h:1067/q:mauto/process:3625/id:72b73e39a2011fa1fba0bda53199a84c/https://japanesegarden.org/2013-New-Years-Festival-O-Shogatsu-2013-01-07-13800_d33cc32d2d32a8c-1.jpg
LOCATION:Yanai Classroom\, 611 SW Kingston Ave.\, Portland\, Oregon\, 97205\, United States
GEO:45.51862;-122.70843109999998
X-APPLE-STRUCTURED-LOCATION;VALUE=URI;X-ADDRESS=611 SW Kingston Ave.\, Portland\, Oregon\, 97205\, United States;X-APPLE-RADIUS=100;X-TITLE=Yanai Classroom:geo:45.51862;-122.70843109999998
END:VEVENT
END:VCALENDAR